BEGIN:VCALENDAR
VERSION:2.0
PRODID:-//Carryduff Parish//Events//EN
CALSCALE:GREGORIAN
METHOD:PUBLISH
BEGIN:VEVENT
UID:199@clonduffparish.3c-stage.co.uk
DTSTAMP:20260420T003314Z
DTSTART:20260324T000000
DTEND:20260324T040000
SUMMARY:Embracing Faith’s Promise\, Sharing Love’s Light Anchored
LOCATION:Clonduff\, hilltown
DESCRIPTION:Organiser: Clonduff\nCost: free\nEmail: parish@clonduff.com\nPhone: 1123456778\nWebsite: https://www.google.com\nLink: https://clonduffparish.3c-stage.co.uk/events/embracing-faiths-promise-sharing-loves-light-anchored/
URL;VALUE=URI:https://clonduffparish.3c-stage.co.uk/events/embracing-faiths-promise-sharing-loves-light-anchored/
END:VEVENT
END:VCALENDAR
